BEGIN:VCALENDAR
VERSION:2.0
PRODID:-//Satwik School - ECPv6.15.20//NONSGML v1.0//EN
CALSCALE:GREGORIAN
METHOD:PUBLISH
X-ORIGINAL-URL:https://satwikschool.com
X-WR-CALDESC:Events for Satwik School
REFRESH-INTERVAL;VALUE=DURATION:PT1H
X-Robots-Tag:noindex
X-PUBLISHED-TTL:PT1H
BEGIN:VTIMEZONE
TZID:Europe/Oslo
BEGIN:DAYLIGHT
TZOFFSETFROM:+0100
TZOFFSETTO:+0200
TZNAME:CEST
DTSTART:20230326T010000
END:DAYLIGHT
BEGIN:STANDARD
TZOFFSETFROM:+0200
TZOFFSETTO:+0100
TZNAME:CET
DTSTART:20231029T010000
END:STANDARD
BEGIN:DAYLIGHT
TZOFFSETFROM:+0100
TZOFFSETTO:+0200
TZNAME:CEST
DTSTART:20240331T010000
END:DAYLIGHT
BEGIN:STANDARD
TZOFFSETFROM:+0200
TZOFFSETTO:+0100
TZNAME:CET
DTSTART:20241027T010000
END:STANDARD
BEGIN:DAYLIGHT
TZOFFSETFROM:+0100
TZOFFSETTO:+0200
TZNAME:CEST
DTSTART:20250330T010000
END:DAYLIGHT
BEGIN:STANDARD
TZOFFSETFROM:+0200
TZOFFSETTO:+0100
TZNAME:CET
DTSTART:20251026T010000
END:STANDARD
END:VTIMEZONE
BEGIN:VTIMEZONE
TZID:UTC
BEGIN:STANDARD
TZOFFSETFROM:+0000
TZOFFSETTO:+0000
TZNAME:UTC
DTSTART:20220101T000000
END:STANDARD
END:VTIMEZONE
BEGIN:VEVENT
DTSTART;TZID=Europe/Oslo:20240105T080000
DTEND;TZID=Europe/Oslo:20240112T090000
DTSTAMP:20260420T055354
CREATED:20230603T140612Z
LAST-MODIFIED:20230621T144349Z
UID:1159-1704441600-1705050000@satwikschool.com
SUMMARY:Surf & Yoga Week
DESCRIPTION:Join us for our Surf & Yoga Week in the surf and yoga paradise of La Pared\, powered by Playitas\, on the beautiful island of Fuerteventura. This unique and perfect environment combines beginner’s surfing and high-quality yoga. This week offers the opportunity to learn and develop both practices with professional instructors and teachers. The combination of yoga and surfing is a beautiful harmony for the body and soul\, with a strong connection through the importance of breath\, body control\, and soul connection \n\n\n\nNordic and Indian experts \n\n\n\nIn collaboration with yoga and surf queen Sofie Simonsson from Sweden and Indian yoga guru Riyas Babu from Satwik School of Yoga in Kerala\, the week will focus on yoga and surfing for beginners. With the beach and waves just around the corner and a soothing atmosphere with serene yoga spots\, La Pared is the ultimate place to experience the best of both worlds. With its stunning nature and relaxing atmosphere\, you will have plenty of time to explore the hotel\, the village of La Pared\, and its scenic surroundings. The sandy beach of Playa La Pared attracts people from all over the world who want to learn to surf. \n\n\n\nThis journey will create lifelong memories and a newfound love for both surfing and yoga. Book your spot today and experience the perfect combination of adventure\, rejuvenation\, and relaxation! \n\n\n\nA perfect blend \n\n\n\nAbout the Week’s Content: The days begin with morning yoga followed by surfing. The week starts with three days of surf lessons (4 hours/day) in collaboration with the local surf school\, Wellenkind. Here\, we will learn the basics (or refresh your memory) of wave surfing and improve your technique with professional instructors who will guide you based on your current level. After the surf lessons\, we conclude the day with yoga. \n\n\n\nWe practice yoga to the sound of the ocean waves and gentle breezes. We offer delightful and empowering yoga classes that prepare the body for the surf sessions. Sofie Simonsson leads yoga sessions and\, together with the hotel’s surf school\, Wellenkind\, provides daily surf lessons. Under the guidance of yoga guru Riyas Babu\, we will enjoy rejuvenating classes as well as gain important philosophical insights. This will be a week where you can challenge yourself in both yoga and surfing. Shared meals are available for those who wish.
URL:https://satwikschool.com/program/surf-yoga-week/
LOCATION:La pared Powered by Playitas\, Av. del Istmo\, 6\, 35627 La Pared\, Las Palmas\, Fuerteventura\, Las Palmas\, Av. del Istmo\, 6\, 35627 La Pared\, Las Palmas reception.lapared@playitas.net +34 928 54 91 30\, Spain
CATEGORIES:Retreats
ORGANIZER;CN="Apollo Sports":MAILTO:Karoline.Halvorsen.Endsjo@apollo.no
END:VEVENT
BEGIN:VEVENT
DTSTART;TZID=UTC:20240105T000000
DTEND;TZID=UTC:20240202T235959
DTSTAMP:20260420T055354
CREATED:20230505T101221Z
LAST-MODIFIED:20230621T144452Z
UID:449-1704412800-1706918399@satwikschool.com
SUMMARY:200 hour Yoga Alliance Teachers Training Program
DESCRIPTION:Welcome to our 200-hour Yoga Alliance Teachers Training Program\, fully run by experienced Indian teachers. \nWe believe that the world is full of magic things\, patiently waiting for our senses to grow sharper\, and this program is designed to help you sharpen your senses and deepen your understanding of traditional yoga practices. \nOur curriculum is artfully crafted to blend traditional teachings with modern scientific perspectives\, giving you an unparalleled experience of personal development and yogic experience. With a special focus on Yoga Philosophy and Meditation practices\, you will gain a comprehensive understanding of the essentials of yoga. \nOur team of experienced Indian teachers will guide you through Asana\, Sequencing\, Adjustment and Alignment\, Teaching practices\, mantra learning\, and Anatomy. You will also study the Six philosophies of Hinduism\, Yoga Sutra\, Basics of Buddhism\, Meditation\, Science and Spirituality\, and Basics of Ayurveda. \nOur sample daily schedule includes meditation and pranayama\, asana practice and alignment\, yoga philosophy\, teaching methodology\, anatomy and physiology\, mantra learning and chanting\, and closing meditation. Our daily schedule is subject to change depending on the needs of the group and the curriculum. \nAt the end of this program\, you will be qualified to register with Yoga Alliance as a RYT 200\, giving you a globally recognized accreditation. \nWe invite you to join us on this journey of personal growth and transformation\, fully guided by experienced Indian teachers.
URL:https://satwikschool.com/program/200-hour-yoga-teachers-training/
LOCATION:La pared Powered by Playitas\, Av. del Istmo\, 6\, 35627 La Pared\, Las Palmas\, Fuerteventura\, Las Palmas\, Av. del Istmo\, 6\, 35627 La Pared\, Las Palmas reception.lapared@playitas.net +34 928 54 91 30\, Spain
CATEGORIES:Training
ATTACH;FMTTYPE=image/jpeg:https://satwikschool.com/wp-content/uploads/2023/04/IMG-20221110-WA0006.jpg
ORGANIZER;CN="Apollo Sports":MAILTO:Karoline.Halvorsen.Endsjo@apollo.no
END:VEVENT
BEGIN:VEVENT
DTSTART;TZID=UTC:20230827T080000
DTEND;TZID=UTC:20230903T090000
DTSTAMP:20260420T055354
CREATED:20230529T130046Z
LAST-MODIFIED:20230630T133500Z
UID:595-1693123200-1693731600@satwikschool.com
SUMMARY:Nordic yoga and meditation retreat
DESCRIPTION:Surf & Yoga Week\n\n\n\n\n\n\n\n\n\n\n\n\n\n\n\n\n\n\n\nWelcome to the Nordic yoga & meditation retreat in Porto Myrina\, Limnos – an enchanting and transformative event that beautifully blends cultures and harnesses the transformative power of yoga. Prepare to embark on a soulful journey as we come together under the warm embrace of the Greek sun to explore the harmonious fusion of Indian and Nordic traditions.\n\n\n\n\n\n\n\nUnion\n\n\n\nImmerse yourself in the captivating teachings of two renowned Indian masters\, Riyas Babu and Mahendraji. Their profound expertise will elevate your practice to new heights\, while their wisdom resonates deep within your being. Alongside them\, we are honored to have two exceptional Nordic teachers\, Vibeka Klemsten and Carolina Söderberg\, who bring their unique perspectives and techniques to enrich your yoga journey. \n\n\n\nLocation\n\n\n\nAs you step into the serene beauty of Porto Myrina\, you’ll find yourself surrounded by nature’s embrace\, where tranquillity intertwines with picturesque landscapes. Picture yourself in a morning meditation session\, basking in the gentle rays of the rising sun as it illuminates the sandy beach. Transition seamlessly into invigorating Vinyasa flows amidst breath-taking views\, allowing the rhythm of your breath to harmonize with the rhythm of nature itself. \n\n\n\n\n\nExplore the styles \n\n\n\nPrepare to immerse yourself in a wide range of yoga styles\, each offering a transformative experience. From dynamic Ashtanga to soothing Yin\, each practice is an opportunity to deepen your self-awareness and explore the intricate connection between body\, mind\, and soul. Mindfulness workshops will guide you on a path of introspection and self-discovery\, offering valuable tools to cultivate presence and balance in your everyday life. \n\n\n\nCommunity\n\n\n\nBeyond the yoga mat\, the Nordic Yoga Festival is a celebration of unity and connection. Engage in heart-centered discussions\, share stories\, and forge deep connections with like-minded individuals from around the world. As the sun sets\, come together for inspiring evening ceremonies that blend traditional rituals with contemporary expressions of gratitude and celebration. \n\n\n\nJoin us for an unforgettable experience at the Nordic yoga & meditation retreat in Porto Myrina\, Limnos\, where ancient wisdom meets the allure of a sun-kissed Greek island. Reserve your spot now and allow yourself to be swept away on a transformative journey of self-discovery\, unity\, and profound inner peace. Embrace this opportunity to create lasting memories\, expand your horizons\, and reconnect with your true essence in the embrace of this sacred gathering.
URL:https://satwikschool.com/program/nordic-yoga-meditation-retreat-2023-4/
LOCATION:Porto Myrina\, Porto Myrina powered by Playitas Myrina\, 8140 Limnos Island Greece\, Limnos\, Limnos\, 8140\, Greece
CATEGORIES:Retreats
ATTACH;FMTTYPE=image/jpeg:https://satwikschool.com/wp-content/uploads/2023/05/IMG-20230215-WA0052.jpg
ORGANIZER;CN="Apollo Sports":MAILTO:sports@apollo.no
END:VEVENT
END:VCALENDAR